BEGIN:VCALENDAR
VERSION:2.0
PRODID:-//Squarespace Inc/Squarespace 6//v6//EN
BEGIN:VEVENT
UID:5e5853ae353cbd639f7d2d53@squarespace.com
DTSTAMP:20200322T051710Z
DTSTART:20191231T230000Z
DTEND:20201231T225900Z
SUMMARY:PHA (Vic &amp\; Tas) 2020 Calendar of Events
END:VEVENT
END:VCALENDAR
