BEGIN:VCALENDAR
VERSION:2.0
PRODID:-//Squarespace Inc/Squarespace 6//v6//EN
BEGIN:VEVENT
UID:601903a94dad385b9f11fd1b@squarespace.com
DTSTAMP:20210202T080458Z
DTSTART:20210916T170000Z
DTEND:20210916T180000Z
SUMMARY:Online Drop-In Session - Thursday 16 September
END:VEVENT
END:VCALENDAR
