BEGIN:VCALENDAR
VERSION:2.0
PRODID:-//Squarespace Inc/Squarespace 6//v6//EN
BEGIN:VEVENT
UID:601902416083dc47ad60194a@squarespace.com
DTSTAMP:20210202T080453Z
DTSTART:20210817T090000Z
DTEND:20210817T100000Z
SUMMARY:Online Drop-In Session - Tuesday 17 August
END:VEVENT
END:VCALENDAR
