BEGIN:VCALENDAR
VERSION:2.0
PRODID:-//Squarespace Inc/Squarespace 6//v6//EN
BEGIN:VEVENT
UID:6019028c44885a033ad33b3d@squarespace.com
DTSTAMP:20210202T080448Z
DTSTART:20210715T170000Z
DTEND:20210715T180000Z
SUMMARY:Online Drop-In Session - Thursday 15 July
END:VEVENT
END:VCALENDAR
