BEGIN:VCALENDAR
VERSION:2.0
PRODID:-//Squarespace Inc/Squarespace 6//v6//EN
BEGIN:VEVENT
UID:601902dd5358bc62daafc637@squarespace.com
DTSTAMP:20210202T080441Z
DTSTART:20210615T090000Z
DTEND:20210615T100000Z
SUMMARY:Online Drop-In Session - Tuesday 15 June
END:VEVENT
END:VCALENDAR
