BEGIN:VCALENDAR
VERSION:2.0
PRODID:-//Squarespace Inc/Squarespace 6//v6//EN
BEGIN:VEVENT
UID:60190333e928c364b04e4098@squarespace.com
DTSTAMP:20210202T080436Z
DTSTART:20210520T170000Z
DTEND:20210520T180000Z
SUMMARY:Online Drop-In Session - Thursday 20 May
END:VEVENT
END:VCALENDAR
