BEGIN:VCALENDAR
VERSION:2.0
PRODID:-//Squarespace Inc/Squarespace 6//v6//EN
BEGIN:VEVENT
UID:6019018d6083dc47ad601455@squarespace.com
DTSTAMP:20210224T055827Z
DTSTART:20210420T090000Z
DTEND:20210420T100000Z
SUMMARY:Online Drop-In Session - Tuesday 20 April
END:VEVENT
END:VCALENDAR
