BEGIN:VCALENDAR
VERSION:2.0
PRODID:-//Squarespace Inc/Squarespace 6//v6//EN
BEGIN:VEVENT
UID:6019030aa318b90627b714dc@squarespace.com
DTSTAMP:20210202T075612Z
DTSTART:20210318T180000Z
DTEND:20210318T190000Z
SUMMARY:Online Drop-In Session - Thursday 18 March
END:VEVENT
END:VCALENDAR
