BEGIN:VCALENDAR
VERSION:2.0
PRODID:-//Squarespace Inc/Squarespace 6//v6//EN
BEGIN:VEVENT
UID:6018adfa385b0a16cc30af08@squarespace.com
DTSTAMP:20210227T010212Z
DTSTART:20210228T130000Z
DTEND:20210228T150000Z
SUMMARY:Sharpen up your grant application
END:VEVENT
END:VCALENDAR
