BEGIN:VCALENDAR
VERSION:2.0
PRODID:-//Squarespace Inc/Squarespace 6//v6//EN
BEGIN:VEVENT
UID:603997568946b51eb2c39f2c@squarespace.com
DTSTAMP:20210227T005331Z
DTSTART:20210221T094500Z
DTEND:20210221T130000Z
SUMMARY:Cultural Walk - Bendigo Chinese Heritage Tour
GEO:-36.748886;144.286594
LOCATION:Golden Dragon Museum\, 1/11 Bridge Street\, Bendigo\, Australia
END:VEVENT
END:VCALENDAR
