BEGIN:VCALENDAR
VERSION:2.0
PRODID:-//Squarespace Inc/Squarespace 6//v6//EN
BEGIN:VEVENT
UID:601903896083dc47ad6026b4@squarespace.com
DTSTAMP:20210224T060238Z
DTSTART:20211019T090000Z
DTEND:20211019T100000Z
SUMMARY:Online Drop-In Session - Tuesday 19 October
END:VEVENT
END:VCALENDAR
