BEGIN:VCALENDAR
VERSION:2.0
PRODID:-//Squarespace Inc/Squarespace 6//v6//EN
BEGIN:VEVENT
UID:6018aaeec7696c40fbb66123@squarespace.com
DTSTAMP:20210202T074250Z
DTSTART:20210216T100000Z
DTEND:20210216T110000Z
SUMMARY:Online Drop-In Session - Tuesday 16 February
END:VEVENT
END:VCALENDAR
