BEGIN:VCALENDAR
VERSION:2.0
PRODID:-//Squarespace Inc/Squarespace 6//v6//EN
BEGIN:VEVENT
UID:60190361fc4e21636a9fc6f3@squarespace.com
DTSTAMP:20210202T080510Z
DTSTART:20211118T180000Z
DTEND:20211118T190000Z
SUMMARY:Online Drop-In Session - Thursday 18 November
END:VEVENT
END:VCALENDAR
