BEGIN:VCALENDAR
VERSION:2.0
PRODID:-//Squarespace Inc/Squarespace 6//v6//EN
BEGIN:VEVENT
UID:5f4eed880670507e37c01964@squarespace.com
DTSTAMP:20200902T072156Z
DTSTART:20200924T170000Z
DTEND:20200924T180000Z
SUMMARY:Grants Funding Session
END:VEVENT
END:VCALENDAR
