BEGIN:VCALENDAR
VERSION:2.0
PRODID:-//Squarespace Inc/Squarespace 6//v6//EN
BEGIN:VEVENT
UID:5f459e4c3c97f044469c6a68@squarespace.com
DTSTAMP:20200825T232849Z
DTSTART:20200901T090000Z
DTEND:20200901T100000Z
SUMMARY:Online Drop-In Session - Tuesday 1 September
END:VEVENT
END:VCALENDAR
