BEGIN:VCALENDAR
VERSION:2.0
PRODID:-//Squarespace Inc/Squarespace 6//v6//EN
BEGIN:VEVENT
UID:5f0d67176318062051cc9a6b@squarespace.com
DTSTAMP:20200714T080539Z
DTSTART:20200804T090000Z
DTEND:20200804T100000Z
SUMMARY:Online Drop-In Session - Tuesday 4 August
END:VEVENT
END:VCALENDAR
