BEGIN:VCALENDAR
VERSION:2.0
PRODID:-//Squarespace Inc/Squarespace 6//v6//EN
BEGIN:VEVENT
UID:5efe762e61ec0f629f6c2e57@squarespace.com
DTSTAMP:20200721T065600Z
DTSTART:20200801T073000Z
DTEND:20200801T113000Z
SUMMARY:Building Aboriginal Cultural Competency Second Online Workshop
END:VEVENT
END:VCALENDAR
