BEGIN:VCALENDAR
VERSION:2.0
PRODID:-//Squarespace Inc/Squarespace 6//v6//EN
BEGIN:VEVENT
UID:5ee806a59f00d47f963696c5@squarespace.com
DTSTAMP:20200703T001100Z
DTSTART:20200718T073000Z
DTEND:20200718T113000Z
SUMMARY:Building Aboriginal Cultural Competency Online Workshop
END:VEVENT
END:VCALENDAR
