BEGIN:VCALENDAR
VERSION:2.0
PRODID:-//Squarespace Inc/Squarespace 6//v6//EN
BEGIN:VEVENT
UID:5ef2d725c1672d3382da101e@squarespace.com
DTSTAMP:20200624T045341Z
DTSTART:20200707T090000Z
DTEND:20200707T100000Z
SUMMARY:Online Drop-In Session - Tuesday 7 July
END:VEVENT
END:VCALENDAR
