BEGIN:VCALENDAR
VERSION:2.0
PRODID:-//Squarespace Inc/Squarespace 6//v6//EN
BEGIN:VEVENT
UID:5ee725538a33630b03c3cf6d@squarespace.com
DTSTAMP:20200620T091333Z
DTSTART:20200625T170000Z
DTEND:20200625T180000Z
SUMMARY:Webinar #2 - Economies\, The River and Bessie
END:VEVENT
END:VCALENDAR
