BEGIN:VCALENDAR
VERSION:2.0
PRODID:-//Squarespace Inc/Squarespace 6//v6//EN
BEGIN:VEVENT
UID:5ec4a8c8844f01751230e1f8@squarespace.com
DTSTAMP:20200520T035055Z
DTSTART:20200611T160000Z
DTEND:20200611T170000Z
SUMMARY:Online Drop-In Session - Thursday 11 June
END:VEVENT
END:VCALENDAR
