BEGIN:VCALENDAR
VERSION:2.0
PRODID:-//Squarespace Inc/Squarespace 6//v6//EN
BEGIN:VEVENT
UID:5e92e5d714b45c6b9b867dea@squarespace.com
DTSTAMP:20200412T095818Z
DTSTART:20200428T090000Z
DTEND:20200428T100000Z
SUMMARY:Online Drop-In Session - Tuesday 28 April
END:VEVENT
END:VCALENDAR
