BEGIN:VCALENDAR
VERSION:2.0
PRODID:-//Squarespace Inc/Squarespace 6//v6//EN
BEGIN:VEVENT
UID:5e5b6026e6c06e061fa2a0ca@squarespace.com
DTSTAMP:20200322T041827Z
DTSTART:20200418T074500Z
DTEND:20200502T141500Z
SUMMARY:Podcast Essentials Masterclass
GEO:-37.807856;144.982538
LOCATION:3CR Radio\, 21 Smith Street\, Fitzroy\, Vic\, 3065
END:VEVENT
END:VCALENDAR
