BEGIN:VCALENDAR
VERSION:2.0
PRODID:-//Squarespace Inc/Squarespace 6//v6//EN
BEGIN:VEVENT
UID:5e8e789a334de1750637c591@squarespace.com
DTSTAMP:20200412T100239Z
DTSTART:20200416T160000Z
DTEND:20200416T170000Z
SUMMARY:Online Drop-In Session - Thursday 16 April
END:VEVENT
END:VCALENDAR
