BEGIN:VCALENDAR
VERSION:2.0
PRODID:-//Squarespace Inc/Squarespace 6//v6//EN
BEGIN:VEVENT
UID:5e92e6c8434baa2223daec59@squarespace.com
DTSTAMP:20200511T054507Z
DTSTART:20200526T090000Z
DTEND:20200526T100000Z
SUMMARY:Online Drop-In Session - Tuesday 26 May
END:VEVENT
END:VCALENDAR
