BEGIN:VCALENDAR
VERSION:2.0
PRODID:-//Squarespace Inc/Squarespace 6//v6//EN
BEGIN:VEVENT
UID:5e92e644bfaecc675368aded@squarespace.com
DTSTAMP:20200511T054454Z
DTSTART:20200514T170000Z
DTEND:20200514T180000Z
SUMMARY:Past\, Present\, Future: Responding to Pandemics
END:VEVENT
END:VCALENDAR
