BEGIN:VCALENDAR
VERSION:2.0
PRODID:-//Squarespace Inc/Squarespace 6//v6//EN
BEGIN:VEVENT
UID:5e5df1763b6a650c26980b86@squarespace.com
DTSTAMP:20200322T052952Z
DTSTART:20200523T070000Z
DTEND:20200523T150000Z
SUMMARY:Beechworth Regional Forum
GEO:-36.353302;146.687725
LOCATION:Beechworth\, Vic\, 3747\, Australia
END:VEVENT
END:VCALENDAR
