BEGIN:VCALENDAR
VERSION:2.0
PRODID:-//Squarespace Inc/Squarespace 6//v6//EN
BEGIN:VEVENT
UID:5e5b5ee25da97a29825ef84f@squarespace.com
DTSTAMP:20200322T041837Z
DTSTART:20200326T170000Z
DTEND:20200326T190000Z
SUMMARY:Members' Meet &amp\; Greet
GEO:-37.809041;144.987791
LOCATION:Prince Patrick Hotel\, 135 Victoria Parade\, Collingwood\, Vic\, 3
 066
END:VEVENT
END:VCALENDAR
