BEGIN:VCALENDAR
VERSION:2.0
PRODID:-//Squarespace Inc/Squarespace 6//v6//EN
BEGIN:VEVENT
UID:5e76ea75ac49515565d598eb@squarespace.com
DTSTAMP:20200412T100019Z
DTSTART:20200324T100000Z
DTEND:20200324T110000Z
SUMMARY:Online Drop-In Session - Tuesday 24 March
END:VEVENT
END:VCALENDAR
