BEGIN:VCALENDAR
VERSION:2.0
PRODID:-//Squarespace Inc/Squarespace 6//v6//EN
BEGIN:VEVENT
UID:5e76ed6f34a6bb77018bbfe0@squarespace.com
DTSTAMP:20200412T100010Z
DTSTART:20200402T160000Z
DTEND:20200402T170000Z
SUMMARY:Online Drop-In Session - Thursday 2 April
END:VEVENT
END:VCALENDAR
