BEGIN:VCALENDAR
VERSION:2.0
PRODID:-//Squarespace Inc/Squarespace 6//v6//EN
BEGIN:VEVENT
UID:5e76ee9e82535d5a155da03e@squarespace.com
DTSTAMP:20200322T050025Z
DTSTART:20200407T090000Z
DTEND:20200407T100000Z
SUMMARY:Online Drop-In Session - Tuesday 7 April
END:VEVENT
END:VCALENDAR
