BEGIN:VCALENDAR
VERSION:2.0
PRODID:-//Squarespace Inc/Squarespace 6//v6//EN
BEGIN:VEVENT
UID:5e5b6308bd974c78732ec2c6@squarespace.com
DTSTAMP:20200301T085324Z
DTSTART:20200212T170000Z
DTEND:20200212T181500Z
SUMMARY:Site Visit - Arts Centre Behind The Scenes Tour
GEO:-37.8202;144.967895
LOCATION:Arts Centre Melbourne Collections Store\, Hamer Hall\, 100 St Kild
 a Rd\, Melbourne\, VIC\, 3004
END:VEVENT
END:VCALENDAR
