BEGIN:VCALENDAR
VERSION:2.0
PRODID:-//Squarespace Inc/Squarespace 6//v6//EN
BEGIN:VEVENT
UID:5f5995b859ab3511edd2ff35@squarespace.com
DTSTAMP:20201101T231630Z
DTSTART:20201118T163000Z
DTEND:20201118T173000Z
SUMMARY:PHA (Vic &amp\; Tas) 2020 Annual General Meeting
END:VEVENT
END:VCALENDAR
