BEGIN:VCALENDAR
VERSION:2.0
PRODID:-//Squarespace Inc/Squarespace 6//v6//EN
BEGIN:VEVENT
UID:5f9012b4242cb42ab870ad84@squarespace.com
DTSTAMP:20201021T110440Z
DTSTART:20201110T100000Z
DTEND:20201110T110000Z
SUMMARY:Online Drop-In Session - Tuesday 10th November
END:VEVENT
END:VCALENDAR
