BEGIN:VCALENDAR
VERSION:2.0
PRODID:-//Squarespace Inc/Squarespace 6//v6//EN
BEGIN:VEVENT
UID:5f459ebb392c6a14c9cbfb75@squarespace.com
DTSTAMP:20201006T111808Z
DTSTART:20201006T090000Z
DTEND:20201006T100000Z
SUMMARY:Online Drop-In Session - Tuesday 6 October
END:VEVENT
END:VCALENDAR
