BEGIN:VCALENDAR
VERSION:2.0
PRODID:-//Squarespace Inc/Squarespace 6//v6//EN
BEGIN:VEVENT
UID:5f7c23c660b8b025f1761549@squarespace.com
DTSTAMP:20201007T060742Z
DTSTART:20201027T161500Z
DTEND:20201027T173000Z
SUMMARY:RHSV and PHA (Vic &amp\; Tas) Emerging Historians Event 
END:VEVENT
END:VCALENDAR
