BEGIN:VCALENDAR
VERSION:2.0
PRODID:-//Squarespace Inc/Squarespace 6//v6//EN
BEGIN:VEVENT
UID:5d4c1032a22be50001cd35e2@squarespace.com
DTSTAMP:20190813T031432Z
DTSTART:20190907T074500Z
DTEND:20191019T141500Z
SUMMARY:Podcasting Masterclass
GEO:-37.807856;144.982538
LOCATION:3CR Radio\, 21 Smith Street\, Fitzroy\, VIC\, 3065\, Australia
END:VEVENT
END:VCALENDAR
