BEGIN:VCALENDAR
VERSION:2.0
PRODID:-//Squarespace Inc/Squarespace 6//v6//EN
BEGIN:VEVENT
UID:5c7cef1171c10beb40ddbad6@squarespace.com
DTSTAMP:20190722T002754Z
DTSTART:20190816T163000Z
DTEND:20190816T203000Z
SUMMARY:Annual General Meeting and Dinner
GEO:-37.811255;144.972688
LOCATION:Imperial Hotel\, 2-8 Bourke Street\, Melbourne\, VIC\, 3000\, Aust
 ralia
END:VEVENT
END:VCALENDAR
