BEGIN:VCALENDAR
VERSION:2.0
PRODID:-//Squarespace Inc/Squarespace 6//v6//EN
BEGIN:VEVENT
UID:5ca550a2b05ec80001f149cf@squarespace.com
DTSTAMP:20190703T043741Z
DTSTART:20190727T080000Z
DTEND:20190727T120000Z
SUMMARY:Regional Forum: Challenging Histories
GEO:-42.881553;147.332723
LOCATION:Tasmanian Museum and Art Gallery\, Dunn Place\, Hobart\, TAS\, 700
 0\, Australia
END:VEVENT
END:VCALENDAR
