BEGIN:VCALENDAR
VERSION:2.0
PRODID:-//Squarespace Inc/Squarespace 6//v6//EN
BEGIN:VEVENT
UID:5cd4f2dca4222f314d8cce75@squarespace.com
DTSTAMP:20190617T005434Z
DTSTART:20190618T151500Z
DTEND:20190618T173000Z
SUMMARY:Emerging Historians: Breakthrough!
GEO:-37.810782;144.956242
LOCATION:Royal Historical Society of Victoria\, 239 A'Beckett Street\, Melb
 ourne\, VIC\, 3000\, Australia
END:VEVENT
END:VCALENDAR
