BEGIN:VCALENDAR
VERSION:2.0
PRODID:-//Squarespace Inc/Squarespace 6//v6//EN
BEGIN:VEVENT
UID:5cb71a6e971a18525985530d@squarespace.com
DTSTAMP:20190417T123346Z
DTSTART:20190509T160000Z
DTEND:20190509T173000Z
SUMMARY:Oral History and Community - risks\, challenges and rewards
GEO:-37.79896;144.967978
LOCATION:Museo Italiano\, 199 Faraday Street\, Carlton\, VIC\, 3053\, Austr
 alia
END:VEVENT
END:VCALENDAR
