BEGIN:VCALENDAR
VERSION:2.0
PRODID:-//Squarespace Inc/Squarespace 6//v6//EN
BEGIN:VEVENT
UID:5cc7b1571905f4a1690f92cf@squarespace.com
DTSTAMP:20190430T025748Z
DTSTART:20190519T073000Z
DTEND:20190519T133000Z
SUMMARY:Exhibitions Masterclass
GEO:-37.856419;145.032132
LOCATION:Stonnington History Centre\, 1257 High St\, Malvern\, Australia
END:VEVENT
END:VCALENDAR
