BEGIN:VCALENDAR
VERSION:2.0
PRODID:-//Squarespace Inc/Squarespace 6//v6//EN
BEGIN:VEVENT
UID:5c7ced4df4e1fc6a4a8d4b09@squarespace.com
DTSTAMP:20190403T051645Z
DTSTART:20190411T160000Z
DTEND:20190411T180000Z
SUMMARY:Members' Meet and Greet
GEO:-37.816515;144.988243
LOCATION:The Tippler and Co.\, 58 Wellington Parade\, East Melbourne\, VIC\
 , 3002\, Australia
END:VEVENT
END:VCALENDAR
