BEGIN:VCALENDAR
VERSION:2.0
PRODID:-//Squarespace Inc/Squarespace 6//v6//EN
BEGIN:VEVENT
UID:5c429a900e2e72c267c0db55@squarespace.com
DTSTAMP:20190226T033254Z
DTSTART:20190316T090000Z
DTEND:20190316T140000Z
SUMMARY:Curious Collaborations and Wonderful Things
GEO:-37.572391;143.861381
LOCATION:The Gold Museum\, Bradshaw St\, Ballarat Central\, Australia
END:VEVENT
END:VCALENDAR
