BEGIN:VCALENDAR
VERSION:2.0
PRODID:-//Squarespace Inc/Squarespace 6//v6//EN
BEGIN:VEVENT
UID:5c429445352f537b814ec22d@squarespace.com
DTSTAMP:20190204T051205Z
DTSTART:20190214T170000Z
DTEND:20190214T193000Z
SUMMARY:Site visit and Curator tour
GEO:-37.853913;144.981288
LOCATION:Geoffrey Kaye Museum of Anaesthetic History\, 630 Saint Kilda Road
 \, Melbourne\, VIC\, 3004\, Australia
END:VEVENT
END:VCALENDAR
