BEGIN:VCALENDAR
VERSION:2.0
PRODID:-//Squarespace Inc/Squarespace 6//v6//EN
BEGIN:VEVENT
UID:5c7cf49f971a1836ab2f163e@squarespace.com
DTSTAMP:20191119T224838Z
DTSTART:20191201T120000Z
DTEND:20191201T150000Z
SUMMARY:End of Year Picnic
GEO:-37.758181;145.083151
LOCATION:Heide Museum of Art\, 7 Templestowe Road\, Bulleen\, Australia
END:VEVENT
END:VCALENDAR
