BEGIN:VCALENDAR
VERSION:2.0
PRODID:-//Squarespace Inc/Squarespace 6//v6//EN
BEGIN:VEVENT
UID:5c7cf075e2c4834c1a3cd378@squarespace.com
DTSTAMP:20191105T234534Z
DTSTART:20191114T170000Z
DTEND:20191114T190000Z
SUMMARY:Members' Work
GEO:-37.800889;144.953053
LOCATION:The Castle Hotel\, 56 Courtney Place\, North Melbourne\, VIC\, 305
 1\, Australia
END:VEVENT
END:VCALENDAR
