BEGIN:VCALENDAR
VERSION:2.0
PRODID:-//Squarespace Inc/Squarespace 6//v6//EN
BEGIN:VEVENT
UID:5d9962275cbb7d7c85aa8d2a@squarespace.com
DTSTAMP:20191006T233050Z
DTSTART:20191016T160000Z
DTEND:20191016T180000Z
SUMMARY:History Week 2019
GEO:-37.810032;144.983864
LOCATION:Her Place Museum\, 208-210 Clarendon Street\, East Melbourne\, Aus
 tralia
END:VEVENT
END:VCALENDAR
