BEGIN:VCALENDAR
VERSION:2.0
PRODID:-//Squarespace Inc/Squarespace 6//v6//EN
BEGIN:VEVENT
UID:5b617cea03ce641614bcf9af@squarespace.com
DTSTAMP:20180801T104105Z
DTSTART:20180809T160000Z
DTEND:20180809T173000Z
SUMMARY:Historically Speaking Ballarat Presents: Speed Dating History Style
GEO:-37.567389;143.854527
LOCATION:The Mallow Hotel\, 18/20 Skipton Street\, Ballarat Central\, VIC\, 
 3350\, Australia
END:VEVENT
END:VCALENDAR
