BEGIN:VCALENDAR
VERSION:2.0
PRODID:-//Squarespace Inc/Squarespace 6//v6//EN
BEGIN:VEVENT
UID:5b512ee6f950b7b766e574c5@squarespace.com
DTSTAMP:20180813T020140Z
DTSTART:20180817T163000Z
DTEND:20180817T203000Z
SUMMARY:PHA (Vic) 2018 Annual Dinner and AGM
GEO:-37.788715;144.972241
LOCATION:Kent Hotel\, 370 Rathdowne Street\, Carlton North\, VIC\, 3054\, A
 ustralia
END:VEVENT
END:VCALENDAR
